BEGIN:VCALENDAR
VERSION:2.0
PRODID:-//Colorectal Cancer Canada - ECPv6.15.20//NONSGML v1.0//EN
CALSCALE:GREGORIAN
METHOD:PUBLISH
X-ORIGINAL-URL:https://www.colorectalcancercanada.com/fr/
X-WR-CALDESC:Évènements pour Colorectal Cancer Canada
REFRESH-INTERVAL;VALUE=DURATION:PT1H
X-Robots-Tag:noindex
X-PUBLISHED-TTL:PT1H
BEGIN:VTIMEZONE
TZID:UTC
BEGIN:STANDARD
TZOFFSETFROM:+0000
TZOFFSETTO:+0000
TZNAME:UTC
DTSTART:20280101T000000
END:STANDARD
END:VTIMEZONE
BEGIN:VEVENT
DTSTART;TZID=UTC:20290905T190000
DTEND;TZID=UTC:20290905T210000
DTSTAMP:20260426T030921
CREATED:20240226T183918Z
LAST-MODIFIED:20240307T165252Z
UID:10000872-1883329200-1883336400@www.colorectalcancercanada.com
SUMMARY:Groupe de soutien aux aidants
DESCRIPTION:Pour vous inscrire et faire partie de nos groupes de soutien\, veuillez consulter le site suivant Page du groupe de soutien en cliquant sur ce lien.
URL:https://www.colorectalcancercanada.com/fr/event/groupe-de-soutien-aux-aidants/2029-09-05/
CATEGORIES:Groupes de soutien
ATTACH;FMTTYPE=image/jpeg:https://www.colorectalcancercanada.com/wp-content/uploads/2024/02/EAO-2.jpg
END:VEVENT
BEGIN:VEVENT
DTSTART;TZID=UTC:20290911T130000
DTEND;TZID=UTC:20290911T150000
DTSTAMP:20260426T030921
CREATED:20240226T183917Z
LAST-MODIFIED:20240229T155817Z
UID:10000750-1883826000-1883833200@www.colorectalcancercanada.com
SUMMARY:Groupe de soutien pour le cancer colorectal en cours de traitement
DESCRIPTION:Pour vous inscrire et faire partie de nos groupes de soutien\, veuillez consulter le site suivant Page du groupe de soutien en cliquant sur ce lien.
URL:https://www.colorectalcancercanada.com/fr/event/groupe-de-soutien-pour-le-cancer-colorectal-en-cours-de-traitement/2029-09-11/
CATEGORIES:Groupes de soutien
ATTACH;FMTTYPE=image/jpeg:https://www.colorectalcancercanada.com/wp-content/uploads/2024/02/50-GROUP-2-1.jpg
END:VEVENT
BEGIN:VEVENT
DTSTART;TZID=UTC:20290912T190000
DTEND;TZID=UTC:20290912T210000
DTSTAMP:20260426T030921
CREATED:20240226T183918Z
LAST-MODIFIED:20240307T165213Z
UID:10000629-1883934000-1883941200@www.colorectalcancercanada.com
SUMMARY:Groupe de soutien pour le cancer colorectal à début précoce
DESCRIPTION:Pour vous inscrire et faire partie de nos groupes de soutien\, veuillez consulter le site suivant Page du groupe de soutien en cliquant sur ce lien.
URL:https://www.colorectalcancercanada.com/fr/event/groupe-de-soutien-pour-le-cancer-colorectal-a-debut-precoce/2029-09-12/
CATEGORIES:Groupes de soutien
ATTACH;FMTTYPE=image/jpeg:https://www.colorectalcancercanada.com/wp-content/uploads/2024/02/In-EAO-FR.jpg
END:VEVENT
END:VCALENDAR