BEGIN:VCALENDAR
VERSION:2.0
PRODID:-//Colorectal Cancer Canada - ECPv6.15.20//NONSGML v1.0//EN
CALSCALE:GREGORIAN
METHOD:PUBLISH
X-ORIGINAL-URL:https://www.colorectalcancercanada.com
X-WR-CALDESC:Events for Colorectal Cancer Canada
REFRESH-INTERVAL;VALUE=DURATION:PT1H
X-Robots-Tag:noindex
X-PUBLISHED-TTL:PT1H
BEGIN:VTIMEZONE
TZID:UTC
BEGIN:STANDARD
TZOFFSETFROM:+0000
TZOFFSETTO:+0000
TZNAME:UTC
DTSTART:20230101T000000
END:STANDARD
END:VTIMEZONE
BEGIN:VEVENT
DTSTART;TZID=UTC:20241102T083000
DTEND;TZID=UTC:20241102T170000
DTSTAMP:20260424T080314
CREATED:20240820T165336Z
LAST-MODIFIED:20240820T165336Z
UID:10000332-1730536200-1730566800@www.colorectalcancercanada.com
SUMMARY:All About You Calgary
DESCRIPTION:JOIN US for a Day of Empowerment\, Connection\, and Inspiration!  \nDive into fascinating topics like hormone balancing\, menopause\, aging gracefully\, gut health and nutrition\, plus becoming the CEO of your own health with broadcast journalist and cancer survivor\, Jocelyn Laidlaw.  \nWith the guidance of leading experts\, we’ll dive deep into the most exciting and essential aspects of women’s wellness. Enjoy intimate breakout sessions\, rejuvenating yoga\, a beautiful venue\, a delicious lunch\, and plenty of time for connecting with like-minded women. You’ll leave feeling informed\, inspired\, and ready to take the next step in your journey to living your best life.  \nDon’t miss out on this fun and empowering event!  \n 
URL:https://www.colorectalcancercanada.com/event/all-about-you-calgary/
LOCATION:atco park\, 5302 Forand St SW\, Calgary\, Alberta\, T3E 8B4\, Canada
CATEGORIES:Events & Conferences,Upcoming events
ATTACH;FMTTYPE=image/png:https://www.colorectalcancercanada.com/wp-content/uploads/2024/08/Untitled-design16.png
END:VEVENT
END:VCALENDAR