 BEGIN:VCALENDAR
VERSION:2.0
PRODID:-//Colorectal Cancer Canada - ECPv6.15.20//NONSGML v1.0//EN
CALSCALE:GREGORIAN
METHOD:PUBLISH
X-ORIGINAL-URL:https://www.colorectalcancercanada.com
X-WR-CALDESC:Events for Colorectal Cancer Canada
REFRESH-INTERVAL;VALUE=DURATION:PT1H
X-Robots-Tag:noindex
X-PUBLISHED-TTL:PT1H
BEGIN:VTIMEZONE
TZID:UTC
BEGIN:STANDARD
TZOFFSETFROM:+0000
TZOFFSETTO:+0000
TZNAME:UTC
DTSTART:20240101T000000
END:STANDARD
END:VTIMEZONE
BEGIN:VEVENT
DTSTART;TZID=UTC:20250513T120000
DTEND;TZID=UTC:20250514T160000
DTSTAMP:20260420T213307
CREATED:20240402T204203Z
LAST-MODIFIED:20250527T140244Z
UID:10000330-1747137600-1747238400@www.colorectalcancercanada.com
SUMMARY:Colorectal Cancer Community Conference
DESCRIPTION:This virtual conference brings together the nation’s colorectal cancer community: patients who are undergoing or have completed treatment\, caregivers\, family members\, and healthcare professionals. Together\, we will join forces to ENGAGE\, EXCHANGE & EMPOWER. \nThis year’s conference will be co-created with our patient and caregiver co-chairs to ensure that sessions and format respond to the needs of those touched by colorectal cancer and provide them with the necessary information to empower them throughout their journey. \n\nJOIN US May 13 & 14 Virtually HERE
URL:https://www.colorectalcancercanada.com/event/colorectal-cancer-community-conference/
LOCATION:Ontario
CATEGORIES:Events & Conferences,Upcoming events
ATTACH;FMTTYPE=image/png:https://www.colorectalcancercanada.com/wp-content/uploads/2024/04/Conference-Banner-3.png
END:VEVENT
END:VCALENDAR